BEGIN:VCALENDAR
VERSION:2.0
PRODID:-//Bolton-le-Sands Parish Council//Meeting Calendar//EN
CALSCALE:GREGORIAN
METHOD:PUBLISH
BEGIN:VEVENT
UID:73225-20260513@boltonlesandsparish.gov.uk
DTSTAMP:20260419T175455Z
DTSTART;VALUE=DATE:20260513
DTEND;VALUE=DATE:20260514
SUMMARY:Annual Parish meeting &#8211\\; Monday 13th May 2026 &#8211\\; 6.30pm
DESCRIPTION:Annual Meeting\nView details: https://boltonlesandsparish.gov.uk/meetings/annual-parish-meeting-monday-13th-may-2026-6-30pm/
URL:https://boltonlesandsparish.gov.uk/meetings/annual-parish-meeting-monday-13th-may-2026-6-30pm/
END:VEVENT
END:VCALENDAR
