BEGIN:VCALENDAR
VERSION:2.0
PRODID:-//Bolton-le-Sands Parish Council//Meeting Calendar//EN
CALSCALE:GREGORIAN
METHOD:PUBLISH
BEGIN:VEVENT
UID:73226-20260513@boltonlesandsparish.gov.uk
DTSTAMP:20260423T083700Z
DTSTART;VALUE=DATE:20260513
DTEND;VALUE=DATE:20260514
SUMMARY:Annual meeting of the Parish Council\\, Monday 11th May &#8211\\; 7.00pm
DESCRIPTION:Full Council Meeting\nView details: https://boltonlesandsparish.gov.uk/meetings/annual-meeting-of-the-parish-council-monday-11th-may-7-00pm/
URL:https://boltonlesandsparish.gov.uk/meetings/annual-meeting-of-the-parish-council-monday-11th-may-7-00pm/
END:VEVENT
END:VCALENDAR
